BEGIN:VCALENDAR
PRODID;X-RICAL-TZSOURCE=TZINFO:-&#47;&#47;com.denhaven2&#47;NONSGML ri_cal gem&#47;&#47;EN
CALSCALE:GREGORIAN
VERSION:2.0
BEGIN:VEVENT
DTEND;VALUE=DATE:20110822
DTSTART;VALUE=DATE:20110822
DESCRIPTION:1.0 RC is due on 08&#47;22&#47;11 (15 tickets)
SUMMARY:Milestone for colladoc: 1.0 RC
LOCATION:https:&#47;&#47;colladoc.lighthouseapp.com&#47;projects&#47;60753&#47;milestones&#47;110
 088-10-rc
END:VEVENT
END:VCALENDAR
